BEGIN:VCALENDAR
VERSION:2.0
PRODID:-//Peterborough Take Note - ECPv6.10.0//NONSGML v1.0//EN
CALSCALE:GREGORIAN
METHOD:PUBLISH
X-WR-CALNAME:Peterborough Take Note
X-ORIGINAL-URL:https://peterboroughtakenote.com
X-WR-CALDESC:Events for Peterborough Take Note
REFRESH-INTERVAL;VALUE=DURATION:PT1H
X-Robots-Tag:noindex
X-PUBLISHED-TTL:PT1H
BEGIN:VTIMEZONE
TZID:Europe/London
BEGIN:DAYLIGHT
TZOFFSETFROM:+0000
TZOFFSETTO:+0100
TZNAME:BST
DTSTART:20150329T010000
END:DAYLIGHT
BEGIN:STANDARD
TZOFFSETFROM:+0100
TZOFFSETTO:+0000
TZNAME:GMT
DTSTART:20151025T010000
END:STANDARD
BEGIN:DAYLIGHT
TZOFFSETFROM:+0000
TZOFFSETTO:+0100
TZNAME:BST
DTSTART:20160327T010000
END:DAYLIGHT
BEGIN:STANDARD
TZOFFSETFROM:+0100
TZOFFSETTO:+0000
TZNAME:GMT
DTSTART:20161030T010000
END:STANDARD
BEGIN:DAYLIGHT
TZOFFSETFROM:+0000
TZOFFSETTO:+0100
TZNAME:BST
DTSTART:20170326T010000
END:DAYLIGHT
BEGIN:STANDARD
TZOFFSETFROM:+0100
TZOFFSETTO:+0000
TZNAME:GMT
DTSTART:20171029T010000
END:STANDARD
BEGIN:DAYLIGHT
TZOFFSETFROM:+0000
TZOFFSETTO:+0100
TZNAME:BST
DTSTART:20180325T010000
END:DAYLIGHT
BEGIN:STANDARD
TZOFFSETFROM:+0100
TZOFFSETTO:+0000
TZNAME:GMT
DTSTART:20181028T010000
END:STANDARD
BEGIN:DAYLIGHT
TZOFFSETFROM:+0000
TZOFFSETTO:+0100
TZNAME:BST
DTSTART:20190331T010000
END:DAYLIGHT
BEGIN:STANDARD
TZOFFSETFROM:+0100
TZOFFSETTO:+0000
TZNAME:GMT
DTSTART:20191027T010000
END:STANDARD
END:VTIMEZONE
BEGIN:VEVENT
DTSTART;TZID=Europe/London:20190720T193000
DTEND;TZID=Europe/London:20190720T213000
DTSTAMP:20260422T043716
CREATED:20180909T103927Z
LAST-MODIFIED:20190710T104841Z
UID:2409-1563651000-1563658200@peterboroughtakenote.com
SUMMARY:Summer Concert
DESCRIPTION:*Tickets: £10 full\, £9 concession and £5 child. The front rows will be reserved for wheelchairs and people with mobility problems.\n*Programme advertising – if you know of anyone who would like to place an ad in the programme prices are:- Full page £40\, Half page £20\, Quarter page £10.\n*Rehearsal on the day of the concert will start at 2:00pm at QKA and finish by 4:00pm to allow a decent break in between rehearsal and performance. We will need to set up the foyer after the rehearsal ready for the evening so would be grateful for your usual help!\n*Jobs – please sign up at rehearsal. We also need 2 or 3 people who aren’t choir members to pop out at soon as the concert ends and before the audience leave to supervise people coming to collect raffle prizes! If you have a family member coming who is happy to pop out and do this it would be a great help! \n 
URL:https://peterboroughtakenote.com/event/summer-concert/
LOCATION:Queen Katharine Academy\, Mountsteven Ave   \, Peterborough\, PE4 6HX \, United Kingdom
CATEGORIES:Concert
END:VEVENT
BEGIN:VEVENT
DTSTART;TZID=Europe/London:20190220T123000
DTEND;TZID=Europe/London:20190220T140000
DTSTAMP:20260422T043716
CREATED:20190212T152324Z
LAST-MODIFIED:20190217T153807Z
UID:2699-1550665800-1550671200@peterboroughtakenote.com
SUMMARY:Peterborough Cathedral - Wednesday at One
DESCRIPTION:Dress code – as with most churches it can be cool in the Cathedral\, maybe we should wear black trousers or skirts if the ladies prefer them and a warm jumper in a bright colour so we stand out. \nBeautiful Boy\nI See the Light\nScarborough Fair\nJerusalem\nVicar of Dibley\nAve Verum\nBridge over Troubled Water\nSound of Silence
URL:https://peterboroughtakenote.com/event/peterborough-cathedral-wednesday-at-one/
LOCATION:Peterborough Cathedral\, Peterborough\, Cambs\, PE1 1XS
CATEGORIES:Concert
END:VEVENT
BEGIN:VEVENT
DTSTART;TZID=Europe/London:20181208T190000
DTEND;TZID=Europe/London:20181208T210000
DTSTAMP:20260422T043716
CREATED:20180909T095034Z
LAST-MODIFIED:20181128T113819Z
UID:2397-1544295600-1544302800@peterboroughtakenote.com
SUMMARY:Concert in Stilton
DESCRIPTION:Featuring Songs from our October concert and some audience participation numbers.  Printable running order here. \nChoir:  Please be at the church by 5:15 pm so we can see where we can stand\, walk on from etc. As space is limited we are standing in the choir stalls to perform. We have access to a room to leave bags etc. Accompanist will be Helen Mills.  \n 
URL:https://peterboroughtakenote.com/event/concert-in-stilton/
LOCATION:St Magdalene Church\, Stilton\, The Rectory/Church St PE7 3RF\, Peterborough\, PE7 3RF
CATEGORIES:Concert
END:VEVENT
BEGIN:VEVENT
DTSTART;TZID=Europe/London:20181027T190000
DTEND;TZID=Europe/London:20181027T220000
DTSTAMP:20260422T043716
CREATED:20180701T092017Z
LAST-MODIFIED:20181008T104402Z
UID:2370-1540666800-1540677600@peterboroughtakenote.com
SUMMARY:Autumn Concert
DESCRIPTION:Tickets (adult £10\, Concessions £9 and Children £5) available from choir members or by contacting us. \nChoir members: Running order for the day:\n12:00pm – Helpers to set up tables for raffle\, programme and ticket selling\, refreshments etc.\n1:00 to 3:00pm – Rehearsal for everyone. Finishing at 3:00 gives people a chance to get home\, relax and eat before the concert.\n6:15pm – All members back for run through rehearsal with Ken Stimpson choirs.\n7:00pm – Front doors open to public so helpers need to be in place\n7:30pm – Concert begins
URL:https://peterboroughtakenote.com/event/autumn-concert-2/
LOCATION:Queen Katharine Academy\, Mountsteven Ave   \, Peterborough\, PE4 6HX \, United Kingdom
CATEGORIES:Concert
END:VEVENT
BEGIN:VEVENT
DTSTART;TZID=Europe/London:20180428T193000
DTEND;TZID=Europe/London:20180428T214500
DTSTAMP:20260422T043716
CREATED:20180228T153555Z
LAST-MODIFIED:20180310T165202Z
UID:2116-1524943800-1524951900@peterboroughtakenote.com
SUMMARY:Love Songs Through the Ages
DESCRIPTION:Tickets available from choir members\, on the door or by phoning 07907 166834. \nChoir members please sign up for this concert as soon as lists are available.  There will be a short rehearsal on the day.
URL:https://peterboroughtakenote.com/event/love-songs-ages/
LOCATION:Queen Katharine Academy\, Mountsteven Ave   \, Peterborough\, PE4 6HX \, United Kingdom
CATEGORIES:Concert
END:VEVENT
BEGIN:VEVENT
DTSTART;TZID=Europe/London:20171118T193000
DTEND;TZID=Europe/London:20171118T213000
DTSTAMP:20260422T043716
CREATED:20170910T190250Z
LAST-MODIFIED:20171015T165903Z
UID:1770-1511033400-1511040600@peterboroughtakenote.com
SUMMARY:Autumn Concert - Songs from the Musicals
DESCRIPTION:Tickets from choir members\, on the door\, or by email to peterboroughtakenote@mail.com \nRehearsal details later\, but choir members please keep the afternoon free from 12 noon.
URL:https://peterboroughtakenote.com/event/autumn-concert-songs-musicals/
LOCATION:Queen Katharine Academy\, Mountsteven Ave   \, Peterborough\, PE4 6HX \, United Kingdom
CATEGORIES:Concert
END:VEVENT
BEGIN:VEVENT
DTSTART;TZID=Europe/London:20170520T193000
DTEND;TZID=Europe/London:20170520T220000
DTSTAMP:20260422T043716
CREATED:20170209T110717Z
LAST-MODIFIED:20170426T204427Z
UID:1594-1495308600-1495317600@peterboroughtakenote.com
SUMMARY:Concert - Around the World
DESCRIPTION:For tickets please email peterboroughtakenote@mail.com.   Choir members please purchase tickets in advance at any choir rehearsal. \n  \nA rough timetable for choir members: \n12:00 – setting up for refreshments/raffle/ ticket/program sales\n 2:00 – 5:00 – main choir rehearsal\n 5:00 – 6:00 – soloists/groups rehearsal\n 6:00 – 7:00 – Club 73 Choir Rehearsal
URL:https://peterboroughtakenote.com/event/concert-around-world/
LOCATION:Queen Katharine Academy\, Mountsteven Ave   \, Peterborough\, PE4 6HX \, United Kingdom
CATEGORIES:Concert
END:VEVENT
BEGIN:VEVENT
DTSTART;TZID=Europe/London:20170318T091500
DTEND;TZID=Europe/London:20170318T140000
DTSTAMP:20260422T043716
CREATED:20170125T115354Z
LAST-MODIFIED:20170315T105906Z
UID:1572-1489828500-1489845600@peterboroughtakenote.com
SUMMARY:Peterborough Music Festival
DESCRIPTION:Songs for Saturday are: \n Community Choir – Shenandoah\, Va Pensiero\n Mixed Choir – La Cucaracha\, Sailor and Young Nancy\n Acappella – Finlandia\, Der Jager Abschied\, Shosholoza \n Meet at 9:15 at the Key\, best parking is at the Wirrina\, you can pay over the phone to RinGO on 01733 808551\, location ID is 4580. Cost is £3 per day. Festival starts at 9:30 with the Youth Choir sections\, (we have our first slot at 10:15) and ends at 2:45\, we should be finished by 1:00 if you need to leave before the end.  Audience is allowed at a cost of £2 per person. \nBring water (not to be taken on stage)\, and maybe a snack.  Dress all in black (no bare legs or shoulders\, please) with plain bright blue accessories\, and have your music in a plain black folder. \nSee Peterborough Music Festival for further details.
URL:https://peterboroughtakenote.com/event/peterborough-music-festival/
LOCATION:Key Theatre\, Embankment Rd \, Peterborough\, PE1 1EF
CATEGORIES:Competition,Concert
END:VEVENT
BEGIN:VEVENT
DTSTART;TZID=Europe/London:20161214T193000
DTEND;TZID=Europe/London:20161214T210000
DTSTAMP:20260422T043716
CREATED:20161120T165148Z
LAST-MODIFIED:20161120T170313Z
UID:1440-1481743800-1481749200@peterboroughtakenote.com
SUMMARY:Christmas Carols at Napier Place
DESCRIPTION:We will be singing Christmas Carols for the residents.  Please sign up at rehearsal.
URL:https://peterboroughtakenote.com/event/christmas-carols-napier-place/
LOCATION:Napier Place\, Orton Wistow\, Peterborough\, PE2 6XN
CATEGORIES:Concert
END:VEVENT
BEGIN:VEVENT
DTSTART;TZID=Europe/London:20161210T140000
DTEND;TZID=Europe/London:20161210T160000
DTSTAMP:20260422T043716
CREATED:20161115T173813Z
LAST-MODIFIED:20161120T170627Z
UID:1398-1481378400-1481385600@peterboroughtakenote.com
SUMMARY:Christmas Concert For Action For Children
DESCRIPTION:They are very amenable to us using the college gardens and are looking in to the possibility of keeping the coffee shop open so we and visitors can grab something to eat between rehearsal and concert and will also serve coffee/tea during the interval.
URL:https://peterboroughtakenote.com/event/christmas-concert-action-children/
LOCATION:Robinson College\, Grange Road \, Cambridge \, CB3 9AN
CATEGORIES:Concert
END:VEVENT
BEGIN:VEVENT
DTSTART;TZID=Europe/London:20161203T193000
DTEND;TZID=Europe/London:20161203T213000
DTSTAMP:20260422T043716
CREATED:20161115T173403Z
LAST-MODIFIED:20161120T170636Z
UID:1392-1480793400-1480800600@peterboroughtakenote.com
SUMMARY:Christmas Concert at St Oswald's
DESCRIPTION:Rehearsal during the afternoon – details later.
URL:https://peterboroughtakenote.com/event/christmas-concert-st-oswalds/
LOCATION:St Oswald’s Church\, Lincoln Road\, Peterborough\, PE4 6AE
CATEGORIES:Concert
END:VEVENT
BEGIN:VEVENT
DTSTART;TZID=Europe/London:20161022T193000
DTEND;TZID=Europe/London:20161022T213000
DTSTAMP:20260422T043716
CREATED:20160707T153950Z
LAST-MODIFIED:20161005T102950Z
UID:1119-1477164600-1477171800@peterboroughtakenote.com
SUMMARY:Autumn Concert - Elements
DESCRIPTION:This concert will build on our Summer Repertoire\, featuring songs from our successful concert in London with Vocalize.  \n 
URL:https://peterboroughtakenote.com/event/autumn-concert/
LOCATION:Queen Katharine Academy\, Mountsteven Ave   \, Peterborough\, PE4 6HX \, United Kingdom
CATEGORIES:Concert
END:VEVENT
BEGIN:VEVENT
DTSTART;TZID=Europe/London:20160507T190000
DTEND;TZID=Europe/London:20160507T213000
DTSTAMP:20260422T043716
CREATED:20160128T124315Z
LAST-MODIFIED:20160823T172228Z
UID:484-1462647600-1462656600@peterboroughtakenote.com
SUMMARY:Spring Concert - Light & Shadow
DESCRIPTION:This will be a less formal concert\, with audience cafe-style around tables and a bar.  Tickets will be £8 in advance or £10 on the door.  Doors open at 6:30 for refreshments\, concert begins at 7:30. \nDownload running order here. \nLots of help will be needed on the day – please sign up on the lists at rehearsal. \nRehearsal times on the day: \n12.30 – 3 pm: Main choir 3 pm – 3.15 pm: Main choir and Club 73 3.15 pm – 4 pm: Club 73 4 pm – 5 pm: Solos/groups 7 pm: Everyone to be back at the Voyager \nList of songs\, running order and final rehearsal schedule available soon. \nDress Code: Men: Black Trousers and shirt. Royal/bright blue tie            Black socks and shoes. \n Ladies: Black Dress with sleeves                Black skirt or trousers               Plain black top with sleeves               Royal/ bright blue accessories               Black tights/socks (no bare legs/feet)               Black shoes/sandals (not too high as you will need to get on and off the stage!) \n  \n  \n  \n 
URL:https://peterboroughtakenote.com/event/spring-concert/
LOCATION:Queen Katharine Academy\, Mountsteven Ave   \, Peterborough\, PE4 6HX \, United Kingdom
CATEGORIES:Concert
END:VEVENT
BEGIN:VEVENT
DTSTART;TZID=Europe/London:20151212T190000
DTEND;TZID=Europe/London:20151212T220000
DTSTAMP:20260422T043716
CREATED:20151112T165342Z
LAST-MODIFIED:20160220T194821Z
UID:194-1449946800-1449957600@peterboroughtakenote.com
SUMMARY:Concert - Love Comes Down at Christmas
DESCRIPTION:
URL:https://peterboroughtakenote.com/event/concert-love-comes-down-at-christmas/
LOCATION:Queen Katharine Academy\, Mountsteven Ave   \, Peterborough\, PE4 6HX \, United Kingdom
CATEGORIES:Concert
ATTACH;FMTTYPE=image/jpeg:https://peterboroughtakenote.com/wp-content/uploads/2015/11/love-come-down-at-chrstmas.jpeg
END:VEVENT
END:VCALENDAR