BEGIN:VCALENDAR
VERSION:2.0
PRODID:-//Peterborough Take Note - ECPv6.10.0//NONSGML v1.0//EN
CALSCALE:GREGORIAN
METHOD:PUBLISH
X-WR-CALNAME:Peterborough Take Note
X-ORIGINAL-URL:https://peterboroughtakenote.com
X-WR-CALDESC:Events for Peterborough Take Note
REFRESH-INTERVAL;VALUE=DURATION:PT1H
X-Robots-Tag:noindex
X-PUBLISHED-TTL:PT1H
BEGIN:VTIMEZONE
TZID:Europe/London
BEGIN:DAYLIGHT
TZOFFSETFROM:+0000
TZOFFSETTO:+0100
TZNAME:BST
DTSTART:20250330T010000
END:DAYLIGHT
BEGIN:STANDARD
TZOFFSETFROM:+0100
TZOFFSETTO:+0000
TZNAME:GMT
DTSTART:20251026T010000
END:STANDARD
END:VTIMEZONE
BEGIN:VEVENT
DTSTART;TZID=Europe/London:20251108T193000
DTEND;TZID=Europe/London:20251108T220000
DTSTAMP:20260424T151638
CREATED:20250201T113021Z
LAST-MODIFIED:20250201T113103Z
UID:5001-1762630200-1762639200@peterboroughtakenote.com
SUMMARY:A Tribute to Valour
DESCRIPTION:
URL:https://peterboroughtakenote.com/event/a-tribute-to-valour/
LOCATION:St Mary’s Church\, Whittlesey
CATEGORIES:Concert
END:VEVENT
END:VCALENDAR